BEGIN:VCALENDAR
VERSION:2.0
PRODID:-//Les ImprObables - ECPv5.10.0//NONSGML v1.0//EN
CALSCALE:GREGORIAN
METHOD:PUBLISH
X-WR-CALNAME:Les ImprObables
X-ORIGINAL-URL:https://www.lesimprobables.be
X-WR-CALDESC:évènements pour Les ImprObables
BEGIN:VTIMEZONE
TZID:Europe/Paris
BEGIN:DAYLIGHT
TZOFFSETFROM:+0100
TZOFFSETTO:+0200
TZNAME:CEST
DTSTART:20170326T010000
END:DAYLIGHT
BEGIN:STANDARD
TZOFFSETFROM:+0200
TZOFFSETTO:+0100
TZNAME:CET
DTSTART:20171029T010000
END:STANDARD
END:VTIMEZONE
BEGIN:VEVENT
DTSTART;TZID=Europe/Paris:20171007T200000
DTEND;TZID=Europe/Paris:20171007T200000
DTSTAMP:20260421T205020
CREATED:20170823T222146Z
LAST-MODIFIED:20170823T222146Z
UID:1450-1507406400-1507406400@www.lesimprobables.be
SUMMARY:2ème Festival du Théâtre amateur de Olne
DESCRIPTION:Le 2ème Festival du Théâtre amateur de Olne se tiendra les 6\, 7 et 8 octobre 2017. Les ImprObables auront le grand plaisir d’y présenter un spectacle d’improvisation le samedi 7 octobre. \nPrix : 5€ par spectacle ou 10€ pour les 3 jours.
URL:https://www.lesimprobables.be/event/2eme-festival-du-theatre-amateur-de-olne/
LOCATION:Salle Théo Dubois\, Rue du Presbytère\, 8\, Olne\, 4877\, Belgique
CATEGORIES:spectacle
END:VEVENT
END:VCALENDAR